BEGIN:VCALENDAR
VERSION:2.0
CREATED:20260421T122646Z
PRODID:-//Lightbridge Corporation/Equisolve Calendar v1.0//EN
METHOD:PUBLISH
BEGIN:VEVENT
UID:c17a77191c567c111d062a17cf8382d7
DTSTAMP:20260425T150944Z
DTSTART:20260428T200000Z
DTEND:20260428T210000Z
SUMMARY:First Quarter 2026 Earnings and Business Update
DESCRIPTION:First Quarter 2026 Earnings and Business Update\nDate: Apr 28\, 2026 4:00 pm EDT\nWebcast: https://edge.media-server.com/mmc/p/naok4sqr/
END:VEVENT
END:VCALENDAR
